BEGIN:VCALENDAR
VERSION:2.0
PRODID:Events Booking
BEGIN:VEVENT
UID:69eb3f6a4db0b
SUMMARY:15.11.26 ELISA K a MADREMANYA
DESCRIPTION:
LOCATION:Carrer Quintar\, 4\, 17462 Madremanya\, Girona\, Espanya
DTSTART:20261115T160000Z
DTEND:20261115T180000Z
DTSTAMP:20260421T151729Z
ORGANIZER;CN=Entrades Transhumant:MAILTO:inscripcions@transhumant.com
GEO:41.991453;2.956129
X-APPLE-STRUCTURED-LOCATION;VALUE=URI;X-ADDRESS=Carrer Quintar\, 4\, 17462 
 Madremanya\, Girona\, Espanya;X-APPLE-RADIUS=72;X-TITLE=CIR de Madremanya:
 41.991453;2.956129
END:VEVENT
END:VCALENDAR