BEGIN:VCALENDAR
VERSION:2.0
PRODID:Events Booking
BEGIN:VEVENT
UID:69eb3f88a4537
SUMMARY:13.11.26 SOY NEVENKA a CASTELLFOLLIT DE LA ROCA
DESCRIPTION:
LOCATION:Carrer Migdia\, 1\, 17856 Castellfollit de la Roca\, Girona\, Espa
 nya
DTSTART:20261113T173000Z
DTEND:20261113T193000Z
DTSTAMP:20260421T150853Z
ORGANIZER;CN=Entrades Transhumant:MAILTO:inscripcions@transhumant.com
GEO:42.219684;2.549091
X-APPLE-STRUCTURED-LOCATION;VALUE=URI;X-ADDRESS=Carrer Migdia\, 1\, 17856 C
 astellfollit de la Roca\, Girona\, Espanya;X-APPLE-RADIUS=72;X-TITLE=Centr
 e Cívic 1 d'octubre\, Castellfollit de la Roca:42.219684;2.549091
END:VEVENT
END:VCALENDAR