BEGIN:VCALENDAR
VERSION:2.0
PRODID:Events Booking
BEGIN:VEVENT
UID:69eb3f7a597d5
SUMMARY:05.08.26 ELISA K a SANT PAU DE SEGÚRIES
DESCRIPTION:
LOCATION:Carrer Major\, 22\, 17864 Sant Pau de Segúries\, Girona
DTSTART:20260805T200000Z
DTEND:20260805T215500Z
DTSTAMP:20260422T165042Z
ORGANIZER;CN=Entrades Transhumant:MAILTO:inscripcions@transhumant.com
GEO:0;22
X-APPLE-STRUCTURED-LOCATION;VALUE=URI;X-ADDRESS=Carrer Major\, 22\, 17864 S
 ant Pau de Segúries\, Girona;X-APPLE-RADIUS=72;X-TITLE=Plaça Major de Sa
 nt Pau de Segúries:0;22
END:VEVENT
END:VCALENDAR